Workbook
Name OLE_LINK10: '4. File Selection'!$A$107

Sheet 1. VRDC Data Requests 
A1: CMS Data Request Specifications
A2: Current Version: V22.9 - 10/2026
A3: Only complete for VRDC requests
A4: For instructions on how to complete this form, please visit: | F4: https://resdac.org/request-form/rif-specifications-worksheet
A5: Requester Name/Organization:
A6: ResDAC Ticket ID: | I6: Date:
A7: ResDAC TA:
A8: Project/Study Name:
A10: DUA Request: | G10: New DUA Request
G12: Amendment to DUA | I12: Enter DUA #
G14: Grant Proposal
A16: Invoice Request for:
E17: DUA Type | G17: Researcher | J17: Innovator | M17: Federal Agency
E20: Project Type | G20: New Project | J20: Existing Project | M20: Annual Project Renewal
E23: Access Type | G23: SAS Only | J23: Full VRDC (Includes Databricks)
B25: VRDC Seatholder(s) (users that will obtain a CCW User ID and work within the VRDC) | K25: New User Request | L25: Seat Renewal Request | M25: Analytic Container Request (Select one size option to purchase analytic container)
B26: Seatholder Name: | N26: Standard (Medium)
B27: Organization:
B28: Street Address: | N28: Large
B29: City: | F29: State: | I29: ZIP Code:
B30: Business Email: | N30: Extra-Large
B32: Seatholder Name: | N32: Standard (Medium)
B33: Organization:
B34: Street Address: | N34: Large
B35: City: | F35: State: | I35: ZIP Code:
B36: Business Email: | N36: Extra-Large
B38: Seatholder Name: | N38: Standard (Medium)
B39: Organization:
B40: Street Address: | N40: Large
B41: City: | F41: State: | I41: ZIP Code:
B42: Business Email: | N42: Extra-Large
B44: Seatholder Name: | N44: Standard (Medium)
B45: Organization:
B46: Street Address: | N46: Large
B47: City: | F47: State: | I47: ZIP Code:
B48: Business Email: | N48: Extra-Large
B50: Project Contact (person who will be responsible for answering questions about the VRDC request)
B51: Project Contact Name:
B52: Organization:
B53: Business Email:
...

Sheet 2. Physical Data Requests 
A1: CMS Data Request Specifications
A2: Current Version: V22.9 - 10/2026
A3: Only complete for Physical Requests
A4: For instructions on how to complete this form, please visit: | F4: https://resdac.org/request-form/rif-specifications-worksheet
A5: Requester Name/Organization:
A6: ResDAC Ticket ID: | I6: Date:
A7: ResDAC TA:
A8: Project/Study Name:
A10: DUA Request: | G10: New DUA Request
G11: Amendment to DUA | J11: Enter DUA #
G12: Grant Proposal
A14: Project Contact (person who will be responsible for answering questions about the data extract)
A15: Name:
A16: Organization:
A17: Business Email:
A18: Data Recipient (if different from the data custodian)
A19: Name:
A20: Organization:
A21: Street Address:
A23: City: | G23: State: | J23: ZIP Code:
A24: Telephone: | J24: Business Email:
A25: Custodian (person who is primary contact for the Data Management Plan)
A26: Name:
A27: Organization:
A28: Street Address:
A30: City: | G30: State: | J30: ZIP Code:
A31: Telephone: | J31: Business Email:
C32: I’m requesting that the data be sent to the individual in the Data Recipient section above.
A34: Operating System:
E35: Select the operating system that will be used to decrypt and decompress the SDA (typically delivered on Windows NTFS formatted USB hard drive).
E36: Windows
E37: Red Hat Enterprise Linux 3.0 or above (x86 only)
E38: Solaris 8 or above (SPARC only)
E39: RIF data files will be delivered in a fixed column format with SAS programs (for SAS users) and FTS files (for non-SAS users).
A41: Payment and Shipping:
E42: Method of Payment (Researcher will be contacted for payment after request is approved)
E43: Pay.gov
E44: Interagency Agreement Number (federal agencies only)
E46: Shipping Information (Provide Shipping Information or Provide Prepaid Label)
E47: Ship via Delivery Service: | I47: Delivery Service Name:
...

Sheet 3. Custom Cohort
A1: Custom Cohort
A2: Current Version: V22.9 - 10/2026
A3: For instructions on how to complete this form, please visit: | F3: https://resdac.org/request-form/rif-specifications-worksheet
A4: Requester Name/Organization: | E4: =IF('1. VRDC Data Requests '!E5:N5<>"",'1. VRDC Data Requests '!E5:N5,'2. Physical Data Requests '!E5:N5) -> 0
A5: The data extract process requires two steps: 1) Define a cohort of beneficiaries, and 2) Extract the requested files for the beneficiary cohort. Requesters can either select a standardized cohort sample or provide parameters for custom cohort. If requesting data for a standardized cohort sample (5%, 20% or 100%), skip to the applicable Extract Summary tab(s) for selection. If requesting a custom cohort, please select Option 1 and/or 2 below as applicable, provide the required information, and then complete the applicable Extract Summary tab(s).
B7: Custom Cohort Creation Option 1: Researcher will submit Identifiers to CCW for cohort creation Select the type of identifiers to be submitted for the cohort and estimate the number of identifiers being submitted.
C8: CCW Bene ID
C9: HIC Numbers
C10: MBI Numbers
C11: Full SSN Numbers
C12: MSIS ID + State ID (Medicaid)
C13: Partial SSN* | E13: *Must also include a minimum of two additional variables from DOB, Sex, ZIP Code, State Code
C15: Other: | D15: Enter text
B17: Submission of an identifier finder file typically requires a crosswalk be created for your linking information. Please review and select the applicable crosswalks needed
B18: on the Annual or Quarterly Extract Summary tab.
B20: Number of beneficiaries in the finder file: | F20: Enter text
B23: Note: Finder files should not be submitted until CMS has approved the project and assigned a DUA number. Any finder files containing personal identifying information must be encrypted prior to submission to CCW for the extraction of CCW data. An electronic email containing decryption password(s) can be sent to CMSdata@gdit.com. Encrypted files should be Self-Decrypting Archives and the files must be set up to extract on ANY computer. Additional information on finder file encryption and layout requirements can be found in our Submission of Finder Files for Approved Research Data Requests document at: https://www2.ccwdata.org/web/guest/about-ccw.
B28: Custom Cohort Creation Option 2: Researcher would like CCW to search specific data files to define cohort. Only list the files/years below that are required to create the cohort. Files that will be extracted for the resulting cohort should be selected on the Extract Summary tab(s) and not indicated in this section.
B30: File(s) to be searched: | E30: Year(s) to be searched | H30: Description of the search: Please include specific variables and values where applicable* If submitting a list of codes greater than 25, please include a separate .csv file.
B33: *Please refer to the Data Dictionaries available on the CCW Website for information on variables available in each file.
B35: Expected Cohort Size: | F35: Enter text
B37: If the cohort size is unknown, visit the Pricing tool's Estimate Study Size at: https://www2.ccwdata.org/web/guest/pricing.
A39: Overview of Extract Methodology Please provide instructions for your data extract.

Sheet 4. File Selection
A1: File Selection
A2: Current Version: V22.9 - 10/2026
A3: For instructions on how to complete this form, please visit: | F3: https://resdac.org/request-form/rif-specifications-worksheet
A4: Requester Name/Organization: | E4: =IF('1. VRDC Data Requests '!E5:N5<>"",'1. VRDC Data Requests '!E5:N5,'2. Physical Data Requests '!E5:N5) -> 0
A5: Please consult the ResDAC availability table to see which years of data are available for request: | J5: https://www.resdac.org/file-availability
A6: Refer to the CCW website to ensure the files you are requesting have the data elements you need for your study: | J6: https://www.ccwdata.org/web/guest/data-dictionaries
A7: QUARTERLY DATA: Quarterly claims are available 4 months after the quarter ends. Annual refresh for 100% quarterly VRDC access is given by default. MONTHLY DATA: Monthly data is only available to VRDC projects with 100% samples. Projects receiving monthly data will automatically receive the annual refresh once available. DATA MATURITY INFORMATION: Maturity information can be found at https://resdac.org/articles/understanding-cms-data-maturity | J7: ANNUAL YEAR(S) REQUESTED | K7: QUARTERS / YEAR(S) REQUESTED | L7: MONTHLY YEAR(S) REQUESTED *VRDC Only* | M7: 5%* *Assumes enhanced sample | N7: 20%* *Assumes enhanced sample | O7: 1 | P7: COHORT SPECIFIC
A8: MEDICARE ENROLLMENT / SUMMARY FILES
A9: Master Beneficiary Summary File (MBSF)
B10: Segments:
C11: Base A/B/C/D V2 (available 2023 forward) | I11: (MBSF)
C12: Base A/B/C/D (available 1999-2023) | I12: (MBSF)
C13: 27 Chronic Conditions (available 1999-2021) | I13: (MBSFCC)
C14: 30 Chronic Conditions (2017 forward) | I14: (MBSFCC)
C15: Cost and Use | I15: (MBSFCU)
C16: Other Chronic or Potentially Disabling Conditions | I16: (MBSFO)
C17: National Death Index** | I17: (NDI)
C18: ** Available in the VRDC ONLY - no physical shipments
B20: Plan Characteristics Files (2015 forward) | I20: (PLANCF)
B22: Medicare Vital Status File | I22: (VSTAT)
A24: Medicare-Medicaid Linked Enrollee Analytic Data Source (MMLEADS)
C25: MMLEADS 2.0 | I25: (MMLD)
C26: MMLEADS 3.0 Beneficiary Summary File (2016 forward) | I26: (MMLBEN)
C27: MMLEADS 3.0 Cost and Use Summary File (2016 forward) | I27: (MMLDCU)
B29: Healthcare Effectiveness Data and Information Set (HEDIS)
I30: (HEDIS)
B31: Medicare Bayesian Improved Surname Geocoding (MBISG)
I32: (MBISG2)
A33: Risk Score Operational Payment Files
C34: Base File | I34: (RSKBSE)
C35: Model Output Files | I35: (RSKDTL)
A37: MEDICARE FEE-FOR-SERVICE CLAIMS
B38: Inpatient | I38: (CCW-IP)
B39: Outpatient | I39: (CCWOP)
B40: Skilled Nursing Facility | I40: (CCWSNF)
B41: Hospice | I41: (CCWHS)
B42: Home Health Agency | I42: (CCWHHA)
B43: Carrier | I43: (CCWCAR)
B44: Durable Medical Equipment | I44: (CCWDME)
A46: MEDICARE PART D
...

Sheet Sheet1
A2: 0.05 | C2: Cohort
A3: 0.2 | B3: 1 | C3: 1
A4: Cohort
A5: 1

Sheet Invoice
B2: Invoice Information - DATE
B3: ='1. VRDC Data Requests '!$A$2 -> Current Version: V22.9 - 10/2026
B4: ='2. Physical Data Requests '!$E$5 -> 0
B5: ='2. Physical Data Requests '!$E$8 -> 0
B6: Data File(s) Requested | C6: Years/Quarters | D6: Fee Per Year | E6: # Years | F6: Total
B9: Files for CCW to Search: | E9: Finder File Fee:
F10: =D10*E10 -> 0
B13: Researcher to Submit Identifiers: | E13: Finder File Fee:
F14: 0
F15: 0
B16: Cohort ~
B17: Master Beneficiary Summary File:
B18: Base Segment A/B/C/D (n/c with other data) | D18: 0 | F18: =D18*E18 -> 0
B19: Base Segment A/B/C/D (standalone) | D19: 1000 | F19: =D19*E19 -> 0
B20: Chronic Conditions (27 conditions) | F20: =D20*E20 -> 0
B21: Chronic Conditions (30 conditions) | F21: =D21*E21 -> 0
B22: Other Chronic and Potentially Disabling Conditions (40) | F22: =D22*E22 -> 0
B23: Cost and Utilization (enhanced variables) | F23: =D23*E23 -> 0
B24: Medicare Claims Data:
B25: MedPAR File (ss/ls/snf) | F25: =D25*E25 -> 0
B26: Inpatient claims | F26: =D26*E26 -> 0
B27: Outpatient claims | F27: =D27*E27 -> 0
B28: Skilled Nursing Facility claims | F28: =D28*E28 -> 0
B29: Hospice claims | F29: =D29*E29 -> 0
B30: Home Health claims | F30: =D30*E30 -> 0
B31: Carrier claims | F31: =D31*E31 -> 0
B32: Durable Medical Equipment claims | F32: =D32*E32 -> 0
B33: Part D Data:
B34: PDE Option #1 (Actual ID's)
B35: Part D Event data (available starting CY2006) | F35: =D35*E35 -> 0
B36: Plan Characteristics File | D36: 1000 | F36: =D36*E36 -> 0
B37: Formulary File (available starting CY2010) | D37: 1000 | F37: =D37*E37 -> 0
B38: Prescriber Characteristics File (available starting CY2014) | D38: 1000 | F38: =D38*E38 -> 0
B39: PDE Bridge File (fee is per year of previous PDE) | D39: 2000 | F39: =D39*E39 -> 0
B40: PDE Option #2 (Linking ID's)
B41: Part D Event data (available starting CY2006) | F41: =D41*E41 -> 0
B42: Plan Characteristics File | D42: 1000 | F42: =D42*E42 -> 0
B43: Formulary File (available starting CY2010) | D43: 1000 | F43: =D43*E43 -> 0
B44: Prescriber Characteristics File | D44: 1000 | F44: =D44*E44 -> 0
B45: Pharmacy Characteristics File | D45: 1000 | F45: =D45*E45 -> 0
...

Sheet VRDC Federal Invoice
B2: VRDC Invoice Information - DATE
B3: ='1. VRDC Data Requests '!A2 -> Current Version: V22.9 - 10/2026
B4: ='1. VRDC Data Requests '!$E$5 -> 0
B5: ='1. VRDC Data Requests '!$E$8 -> 0
B6: Description | C6: Fee | D6: Quantity | E6: Total
B8: VRDC Access Fee per Federal Research User *CMS onboarding *Seat license *Operational support *Administrative fees *One year of access that must be renewed annually | C8: 25000 | E8: =C8*D8 -> 0
B9: Name of User for Seat: xxxx
B10: Name of User for Seat: xxxx
B11: Project Fee for Federal Research *Data extract process and access setup *Space allocation — 2 TB storage at DUA level *Databricks - 2,000 Credits at the DUA level (includes R and Python) *Output review — 3 output reviews per DUA per week up to 1 GB. Multiple files may be downloaded in a single request. The total size of all the files within a single request cannot exceed (1) GB. The files cannot be zipped together *All users will share the space and Databricks credits allotted to each Project *One year of access that must be renewed annually | C11: 0 | E11: =C11*D11 -> 0
B12: Estimated Space Usage:
B13: Additional Space: - 1 TB block - Renewed annually | C13: 1500 | E13: =C13*D13 -> 0
B14: Additional Databricks Credits: - 2,000 credits - Renewed annually | C14: 1500 | E14: =C14*D14 -> 0
B15: Data extract fee for existing project (e.g. adding a new file, data needed for new cohort). No fee will apply for updated years of data for previously approved cohorts. No fee for creating crosswalks. | C15: 2000 | E15: =C15*D15 -> 0
B16: Updated year of data for an existing VRDC project (if included in original approved executive summary, as noted by ResDAC) | C16: 0 | E16: =C16*D16 -> 0
B17: Optional Quarterly data pulls *One-time fee | C17: 5000 | E17: =C17*D17 -> 0
B18: Optional Monthly data pulls *One-time fee | C18: 15000 | E18: =C18*D18 -> 0
B19: Analytic Container Access - Medium Container (Standard) - 4 vCPU and 24 GB memory | C19: 4000 | E19: =C19*D19 -> 0
B20: Analytic Container Access - Large Container - 6 vCPU and 48 GB memory | C20: 7000 | E20: =C20*D20 -> 0
B21: Analytic Container Access - Extra-Large Container - 8 vCPU and 128 GB memory | C21: 15000 | E21: =C21*D21 -> 0
B22: Additional Output Reviews Additional three (3) output reviews and 1 GB larger size limit per week ($5,000 per year) *Renewed annually Current Project Expiration: If Applicable | C22: 5000 | E22: =C22*D22 -> 0
B24: Annual Renewal Fees :
B25: VRDC Access Fee per General Research User *Seat license *Operational support *Administrative fees *One year of access that must be renewed annually | C25: 25000 | E25: =C25*D25 -> 0
B26: Name of User for Seat: xxxx
B27: Name of User for Seat: xxxx
B28: Project Fee for General Research (Full VRDC) *Data extract process and access setup *Space allocation — 2 TB storage at DUA level *Databricks - 2,000 Credits at the DUA level (includes R and Python) *Output review — 3 output reviews per DUA per week up to 1 GB. Multiple files may be downloaded in a single request. The total size of all the files within a single request cannot exceed (1) GB. The files cannot be zipped together *All users will share the space and Databricks credits allotted to each Project *One year of access that must be renewed annually | C28: 0 | E28: =C28*D28 -> 0
B29: Additional Space: -1 TB block -Renewed annually | C29: 1500 | E29: =C29*D29 -> 0
B31: Total Fees | E31: =SUM(E8:E29) -> 0
B32: *Query XXXX performed on XX/XX/XXXX yielded a cohort size of XX beneficiaries
B34: *If 100% access is not approved, additional fees may be necessary for space usage from extracted data.
B35: *TAF data requests may take longer to deliver than other CMS RIF data due to data volume.
B37: Note: While the total weekly size allotments for output requests are increasing, the download size is still limited to one (1) GB per file. Individual files within the request will need to be (1) GB or less prior to requesting the output review.
B40: This cost estimate/invoice does not constitute approval of your data request. CMS will send the requester a separate notification of request approval. Upon approval, you will be instructed to submit payment. For fastest processing, CMS strongly encourages submitting payment via pay.gov. The pay.gov CMS Data Payment Form can be accessed by visiting:
B41: https://www.pay.gov/public/form/start/25851882/
B42: Using the total amount from this cost estimate/invoice, follow the directions provided on the Pay.gov site to complete your transaction. At the end of your payment transaction, you will receive an Agency Tracking ID number. You will then need to email the following information to your corresponding email address: 1) Pay.gov Agency Tracking ID number, 2) DUA number, and 3) ResDAC Ticket ID Innovators and Researchers: VRDC@cms.hhs.gov You MUST send this email in order to notify CMS that payment has been submitted.
B43: Important Payment Information
B44: Acceptable Payment Methods: • Electronic credit/debit card payments through Pay.gov
B45: • Automated Clearing House (ACH) transfers • Wire transfers For details on ACH or wire transfers please contact VRDC@cms.hhs.gov
B46: For questions, please contact the CMS Chronic Conditions Warehouse (CCW): • Phone: 1-866-766-1915 • Email: CMSdata@gdit.com

Sheet VRDC Researcher Invoice
B2: VRDC Invoice Information - DATE
B3: ='1. VRDC Data Requests '!A2 -> Current Version: V22.9 - 10/2026
B4: ='1. VRDC Data Requests '!$E$5 -> 0
B5: ='1. VRDC Data Requests '!$E$8 -> 0
B6: Description | C6: Fee | D6: Quantity | E6: Total
B8: VRDC Access Fee per General Research User (SAS Only) *CMS onboarding *Seat license *Operational support *Administrative fees *One year of access that must be renewed annually | C8: 20000 | E8: =C8*D8 -> 0
B9: VRDC Access Fee per General Research User (Full VRDC) *CMS onboarding *Seat license *Operational support *Administrative fees *One year of access that must be renewed annually | C9: 22000 | E9: =C9*D9 -> 0
B10: Name of User for Seat: xxxx
B11: Name of User for Seat: xxxx
B12: Project Fee for General Research (SAS Only) *ResDAC assistance *Privacy board review *DUA review system tracking (EPPE) *Data extract process and access setup *Space allocation — 2 TB storage at DUA level *Output review — 3 output reviews per DUA per week up to 1 GB. Multiple files may be downloaded in a single request. The total size of all the files within a single request cannot exceed (1) GB. The files cannot be zipped together *All users will share the space allotted to each Project *One year of access that must be renewed annually | C12: 15000 | E12: =C12*D12 -> 0
B13: Project Fee for General Research (Full VRDC) *ResDAC assistance *Privacy board review *DUA review system tracking (EPPE) *Data extract process and access setup *Space allocation — 2 TB storage at DUA level *Databricks - 2,000 Credits at the DUA level (includes R and Python) *Output review — 3 output reviews per DUA per week up to 1 GB. Multiple files may be downloaded in a single request. The total size of all the files within a single request cannot exceed (1) GB. The files cannot be zipped together *All users will share the space and Databricks credits allotted to each Project *One year of access that must be renewed annually | C13: 18000 | E13: =C13*D13 -> 0
B14: Estimated Space Usage:
B15: Additional Space: - 1 TB block - Renewed annually | C15: 1500 | E15: =C15*D15 -> 0
B16: Additional Databricks Credits: - 2,000 credits - Renewed annually | C16: 1500 | E16: =C16*D16 -> 0
B17: Data extract fee for existing project (e.g. adding a new file, data needed for new cohort). No fee will apply for updated years of data for previously approved cohorts. No fee for creating crosswalks. | C17: 2000 | E17: =C17*D17 -> 0
B18: Updated year of data for an existing VRDC project (if included in original approved executive summary, as noted by ResDAC) | C18: 0 | E18: =C18*D18 -> 0
B19: Optional Quarterly data pulls *One-time fee | C19: 5000 | E19: =C19*D19 -> 0
B20: Optional Monthly data pulls *One-time fee | C20: 15000 | E20: =C20*D20 -> 0
B21: Analytic Container Access - Medium Container (Standard) - 4 vCPU and 24 GB memory | C21: 4000 | E21: =C21*D21 -> 0
B22: Analytic Container Access - Large Container - 6 vCPU and 48 GB memory | C22: 7000 | E22: =C22*D22 -> 0
B23: Analytic Container Access - Extra-Large Container - 8 vCPU and 128 GB memory | C23: 15000 | E23: =C23*D23 -> 0
B24: Additional Output Reviews Additional three (3) output reviews and 1 GB larger size limit per week ($5,000 per year) *Renewed annually Current Project Expiration: If Applicable | C24: 5000 | E24: =C24*D24 -> 0
B26: Annual Renewal Fees :
B27: VRDC Access Fee per General Research User (SAS Only) *Seat license *Operational support *Administrative fees *One year of access that must be renewed annually | C27: 13000 | E27: =C27*D27 -> 0
B28: VRDC Access Fee per General Research User (Full VRDC) *Seat license *Operational support *Administrative fees *One year of access that must be renewed annually | C28: 15000 | E28: =C28*D28 -> 0
B29: Name of User for Seat: xxxx
B30: Name of User for Seat: xxxx
B31: Project Fee for General Research (SAS Only) *DUA review system tracking (EPPE) *Data extract process and access setup *Space allocation — 2 TB storage at DUA level *Output review — 3 output reviews per DUA per week up to 1 GB. Multiple files may be downloaded in a single request. The total size of all the files within a single request cannot exceed (1) GB. The files cannot be zipped together *All users will share the space allotted to each Project *One year of access that must be renewed annually | C31: 10000 | E31: =C31*D31 -> 0
B32: Project Fee for General Research (Full VRDC) *DUA review system tracking (EPPE) *Data extract process and access setup *Space allocation — 2 TB storage at DUA level *Databricks - 2,000 Credits at the DUA level (includes R and Python) *Output review — 3 output reviews per DUA per week up to 1 GB. Multiple files may be downloaded in a single request. The total size of all the files within a single request cannot exceed (1) GB. The files cannot be zipped together *All users will share the space and Databricks credits allotted to each Project *One year of access that must be renewed annually | C32: 13000 | E32: =C32*D32 -> 0
B33: Additional Space: -1 TB block -Renewed annually | C33: 1500 | E33: =C33*D33 -> 0
B34: Quarterly Renewal Fees:
B35: VRDC Access Fee per General Research User (SAS Only) *Seat license *Operational support *Administrative fees *Access that must be renewed quarterly | C35: 3250 | E35: =C35*D35 -> 0
B36: VRDC Access Fee per General Research User (Full VRDC) *Seat license *Operational support *Administrative fees *Access that must be renewed quarterly | C36: 3750 | E36: =C36*D36 -> 0
B37: Name of User for Seat: xxxx
B38: Name of User for Seat: xxxx
B39: Project Fee for General Research (SAS Only) *DUA review system tracking (EPPE) *Data extract process and access setup *Space allocation — 2 TB storage at DUA level *Output review — 3 output reviews per DUA per week up to 1 GB. Multiple files may be downloaded in a single request. The total size of all the files within a single request cannot exceed (1) GB. The files cannot be zipped together *All users will share the space allotted to each Project **Access that must be renewed quarterly | C39: 2500 | E39: =C39*D39 -> 0
B40: Project Fee for General Research (Full VRDC) *DUA review system tracking (EPPE) *Data extract process and access setup *Space allocation — 2 TB storage at DUA level *Databricks - 2,000 Credits at the DUA level (includes R and Python) *Output review — 3 output reviews per DUA per week up to 1 GB. Multiple files may be downloaded in a single request. The total size of all the files within a single request cannot exceed (1) GB. The files cannot be zipped together *All users will share the space and Databricks credits allotted to each Project **Access that must be renewed quarterly | C40: 3250 | E40: =C40*D40 -> 0
B41: Additional Space: -1 TB block -Renewed quarterly | C41: 375 | E41: =C41*D41 -> 0
B43: Total Fees | E43: =SUM(E8:E41) -> 0
B44: *Query XXXX performed on XX/XX/XXXX yielded a cohort size of XX beneficiaries
...

Sheet VRDC Innovator Invoice
B2: VRDC Invoice Information - DATE
B3: ='1. VRDC Data Requests '!A2 -> Current Version: V22.9 - 10/2026
B4: ='1. VRDC Data Requests '!$E$5 -> 0
B5: ='1. VRDC Data Requests '!$E$8 -> 0
B6: Description | C6: Fee | D6: Quantity | E6: Total
B8: VRDC Access Fee per Innovator User (SAS Only) *CMS onboarding *Seat license *Operational support *Administrative fees *One year of access that must be renewed annually | C8: 20000 | E8: =C8*D8 -> 0
B9: VRDC Access Fee per Innovator User (Full VRDC) *CMS onboarding *Seat license *Operational support *Administrative fees *One year of access that must be renewed annually | C9: 22000 | E9: =C9*D9 -> 0
B10: Name of User for Seat: xxxx
B11: Name of User for Seat: xxxx
B12: Project Fee for Innovator Research (SAS Only) *ResDAC assistance *Privacy board review *DUA review system tracking (EPPE) *Data extract process and access setup *Space allocation — 5 TB storage at DUA level *Output review — 6 output reviews per DUA per week up to 2 GB. Multiple files may be downloaded in a single request. The total size of all the files within a single request cannot exceed (1) GB. The files cannot be zipped together *All users will share the space allotted to each Project *One year of access that must be renewed annually | C12: 25000 | E12: =C12*D12 -> 0
B13: Project Fee for Innovator Research (Full VRDC) *ResDAC assistance *Privacy board review *DUA review system tracking (EPPE) *Data extract process and access setup *Space allocation — 5 TB storage at DUA level *Databricks - 4,000 Credits at the DUA level (includes R and Python) *Output review — 6 output reviews per DUA per week up to 2 GB. Multiple files may be downloaded in a single request. The total size of all the files within a single request cannot exceed (1) GB. The files cannot be zipped together *All users will share the space and Databricks credits allotted to each Project *One year of access that must be renewed annually | C13: 35000 | E13: =C13*D13 -> 0
B14: Estimated Space Usage:
B15: Additional Space: - 1 TB block - Renewed annually | C15: 1500 | E15: =C15*D15 -> 0
B16: Additional Databricks Credits: - 2,000 credits - Renewed annually | C16: 1500 | E16: =C16*D16 -> 0
B17: Data extract fee for existing project (e.g. adding a new file, data needed for new cohort). No fee will apply for updated years of data for previously approved cohorts. No fee for creating crosswalks. | C17: 2000 | E17: =C17*D17 -> 0
B18: Updated year of data for an existing VRDC project (if included in original approved executive summary, as noted by ResDAC) | C18: 0 | E18: =C18*D18 -> 0
B19: Optional Quarterly data pulls *One-time fee | C19: 5000 | E19: =C19*D19 -> 0
B20: Optional Monthly data pulls *One-time fee | C20: 15000 | E20: =C20*D20 -> 0
B21: Analytic Container Access - Medium Container (Standard) - 4 vCPU and 24 GB memory | C21: 4000 | E21: =C21*D21 -> 0
B22: Analytic Container Access - Large Container - 6 vCPU and 48 GB memory | C22: 7000 | E22: =C22*D22 -> 0
B23: Analytic Container Access - Extra-Large Container - 8 vCPU and 128 GB memory | C23: 15000 | E23: =C23*D23 -> 0
B24: Additional Output Reviews Additional three (3) output reviews and 1 GB larger size limit per week ($5,000 per year) *Renewed annually Current DUA Expiration: If Applicable | C24: 5000 | E24: =C24*D24 -> 0
B26: Annual Renewal Fees :
B27: VRDC Access Fee per Innovator User (SAS Only) *Seat license *Operational support *Administrative fees *One year of access that must be renewed annually | C27: 13000 | E27: =C27*D27 -> 0
B28: VRDC Access Fee per Innovator User (Full VRDC) *Seat license *Operational support *Administrative fees *One year of access that must be renewed annually | C28: 15000 | E28: =C28*D28 -> 0
B29: Name of User for Seat: xxxx
B30: Name of User for Seat: xxxx
B31: Project Fee for Innovator Research (SAS Only) *DUA review system tracking (EPPE) *Data extract process and access setup *Space allocation — 5 TB storage at DUA level *Output review — 6 output reviews per DUA per week up to 2 GB. Multiple files may be downloaded in a single request. The total size of all the files within a single request cannot exceed (1) GB. The files cannot be zipped together *All users will share the space allotted to each Project *One year of access that must be renewed annually | C31: 20000 | E31: =C31*D31 -> 0
B32: Project Fee for Innovator Research (Full VRDC) *DUA review system tracking (EPPE) *Data extract process and access setup *Space allocation — 5 TB storage at DUA level *Databricks - 4,000 Credits at the DUA level (includes R and Python) *Output review — 6 output reviews per DUA per week up to 2 GB. Multiple files may be downloaded in a single request. The total size of all the files within a single request cannot exceed (1) GB. The files cannot be zipped together *All users will share the space and Databricks credits allotted to each Project *One year of access that must be renewed annually | C32: 25000 | E32: =C32*D32 -> 0
B33: Additional Space: -1 TB block -Renewed annually | C33: 1500 | E33: =C33*D33 -> 0
B34: Quarterly Renewal Fees:
B35: VRDC Access Fee per Innovator User (SAS Only) *Seat license *Operational support *Administrative fees **Access that must be renewed quarterly | C35: 3250 | E35: =C35*D35 -> 0
B36: VRDC Access Fee per Innovator User (Full VRDC) *Seat license *Operational support *Administrative fees **Access that must be renewed quarterly | C36: 3750 | E36: =C36*D36 -> 0
B37: Name of User for Seat: xxxx
B38: Name of User for Seat: xxxx
B39: Project Fee for Innovator Research (SAS Only) *DUA review system tracking (EPPE) *Data extract process and access setup *Space allocation — 5 TB storage at DUA level *Output review — 6 output reviews per DUA per week up to 2 GB. Multiple files may be downloaded in a single request. The total size of all the files within a single request cannot exceed (1) GB. The files cannot be zipped together *All users will share the space allotted to each Project **Access that must be renewed quarterly | C39: 5000 | E39: =C39*D39 -> 0
B40: Project Fee for Innovator Research (Full VRDC) *DUA review system tracking (EPPE) *Data extract process and access setup *Space allocation — 5 TB storage at DUA level *Databricks - 4,000 Credits at the DUA level (includes R and Python) *Output review — 6 output reviews per DUA per week up to 2 GB. Multiple files may be downloaded in a single request. The total size of all the files within a single request cannot exceed (1) GB. The files cannot be zipped together *All users will share the space and Databricks credits allotted to each Project **Access that must be renewed quarterly | C40: 6250 | E40: =C40*D40 -> 0
B41: Additional Space: -1 TB block -Renewed quarterly | C41: 375 | E41: =C41*D41 -> 0
B43: Total Fees | E43: =SUM(E8:E41) -> 0
B44: *Query XXXX performed on XX/XX/XXXX yielded a cohort size of XX beneficiaries
...
